BEGIN:VCALENDAR
VERSION:2.0
PRODID:-//Gradsko društvo Crvenog križa Ivanec - ECPv6.15.18//NONSGML v1.0//EN
CALSCALE:GREGORIAN
METHOD:PUBLISH
X-WR-CALNAME:Gradsko društvo Crvenog križa Ivanec
X-ORIGINAL-URL:https://www.crveni-kriz-ivanec.hr
X-WR-CALDESC:Događaji za Gradsko društvo Crvenog križa Ivanec
REFRESH-INTERVAL;VALUE=DURATION:PT1H
X-Robots-Tag:noindex
X-PUBLISHED-TTL:PT1H
BEGIN:VTIMEZONE
TZID:Europe/Zagreb
BEGIN:DAYLIGHT
TZOFFSETFROM:+0100
TZOFFSETTO:+0200
TZNAME:CEST
DTSTART:20250330T010000
END:DAYLIGHT
BEGIN:STANDARD
TZOFFSETFROM:+0200
TZOFFSETTO:+0100
TZNAME:CET
DTSTART:20251026T010000
END:STANDARD
BEGIN:DAYLIGHT
TZOFFSETFROM:+0100
TZOFFSETTO:+0200
TZNAME:CEST
DTSTART:20260329T010000
END:DAYLIGHT
BEGIN:STANDARD
TZOFFSETFROM:+0200
TZOFFSETTO:+0100
TZNAME:CET
DTSTART:20261025T010000
END:STANDARD
BEGIN:DAYLIGHT
TZOFFSETFROM:+0100
TZOFFSETTO:+0200
TZNAME:CEST
DTSTART:20270328T010000
END:DAYLIGHT
BEGIN:STANDARD
TZOFFSETFROM:+0200
TZOFFSETTO:+0100
TZNAME:CET
DTSTART:20271031T010000
END:STANDARD
END:VTIMEZONE
BEGIN:VEVENT
DTSTART;TZID=Europe/Zagreb:20261006T090000
DTEND;TZID=Europe/Zagreb:20261006T120000
DTSTAMP:20260421T054503
CREATED:20251229T123415Z
LAST-MODIFIED:20251229T123415Z
UID:12862-1791277200-1791288000@www.crveni-kriz-ivanec.hr
SUMMARY:Dobrovoljno darivanje krvi - Zavod za socijalni rad
DESCRIPTION:Ivanec žene\n06.10.2026.\n9:00-12:00\nZavod za socijalni rad\n\n\n\n 
URL:https://www.crveni-kriz-ivanec.hr/dogadanja/dobrovoljno-darivanje-krvi-zavod-za-socijalni-rad-20/
LOCATION:Zavod za socijalni rad\, Ulica Đure Arnolda 11\, Ivanec\, 42240
CATEGORIES:Akcija dobrovoljnog darivanja krvi
END:VEVENT
END:VCALENDAR