BEGIN:VCALENDAR
VERSION:2.0
PRODID:-//Gradsko društvo Crvenog križa Ivanec - ECPv6.15.18//NONSGML v1.0//EN
CALSCALE:GREGORIAN
METHOD:PUBLISH
X-WR-CALNAME:Gradsko društvo Crvenog križa Ivanec
X-ORIGINAL-URL:https://www.crveni-kriz-ivanec.hr
X-WR-CALDESC:Događaji za Gradsko društvo Crvenog križa Ivanec
REFRESH-INTERVAL;VALUE=DURATION:PT1H
X-Robots-Tag:noindex
X-PUBLISHED-TTL:PT1H
BEGIN:VTIMEZONE
TZID:Europe/Zagreb
BEGIN:DAYLIGHT
TZOFFSETFROM:+0100
TZOFFSETTO:+0200
TZNAME:CEST
DTSTART:20240331T010000
END:DAYLIGHT
BEGIN:STANDARD
TZOFFSETFROM:+0200
TZOFFSETTO:+0100
TZNAME:CET
DTSTART:20241027T010000
END:STANDARD
BEGIN:DAYLIGHT
TZOFFSETFROM:+0100
TZOFFSETTO:+0200
TZNAME:CEST
DTSTART:20250330T010000
END:DAYLIGHT
BEGIN:STANDARD
TZOFFSETFROM:+0200
TZOFFSETTO:+0100
TZNAME:CET
DTSTART:20251026T010000
END:STANDARD
BEGIN:DAYLIGHT
TZOFFSETFROM:+0100
TZOFFSETTO:+0200
TZNAME:CEST
DTSTART:20260329T010000
END:DAYLIGHT
BEGIN:STANDARD
TZOFFSETFROM:+0200
TZOFFSETTO:+0100
TZNAME:CET
DTSTART:20261025T010000
END:STANDARD
END:VTIMEZONE
BEGIN:VEVENT
DTSTART;TZID=Europe/Zagreb:20250806T090000
DTEND;TZID=Europe/Zagreb:20250806T120000
DTSTAMP:20260422T231714
CREATED:20250326T135745Z
LAST-MODIFIED:20250326T135745Z
UID:11600-1754470800-1754481600@www.crveni-kriz-ivanec.hr
SUMMARY:Dobrovoljno darivanje krvi - Općina Maruševec
DESCRIPTION:Maruševec\n06.08.2025.\n9:00-12:00\nOpćina Maruševec
URL:https://www.crveni-kriz-ivanec.hr/dogadanja/dobrovoljno-darivanje-krvi-opcina-marusevec-14/
LOCATION:Općina Maruševec\, Maruševec 6\, Maruševec\, 42243
CATEGORIES:Akcija dobrovoljnog darivanja krvi
END:VEVENT
BEGIN:VEVENT
DTSTART;TZID=Europe/Zagreb:20250819T090000
DTEND;TZID=Europe/Zagreb:20250819T120000
DTSTAMP:20260422T231714
CREATED:20250326T135822Z
LAST-MODIFIED:20250326T135822Z
UID:11602-1755594000-1755604800@www.crveni-kriz-ivanec.hr
SUMMARY:Dobrovoljno darivanje krvi - Prostorije Bolnice Klenovnik
DESCRIPTION:Klenovnik\n19.08.2025.\n9:00-12:00\nProstorije Bolnice Klenovnik\n\n\n\n 
URL:https://www.crveni-kriz-ivanec.hr/dogadanja/dobrovoljno-darivanje-krvi-prostorije-bolnice-klenovnik-14/
LOCATION:Prostorije Bolnice Klenovnik\, Klenovnik 1\, Klenovnik\, 42244
CATEGORIES:Akcija dobrovoljnog darivanja krvi
END:VEVENT
BEGIN:VEVENT
DTSTART;TZID=Europe/Zagreb:20250820T120000
DTEND;TZID=Europe/Zagreb:20250820T140000
DTSTAMP:20260422T231714
CREATED:20250326T135901Z
LAST-MODIFIED:20250326T135901Z
UID:11604-1755691200-1755698400@www.crveni-kriz-ivanec.hr
SUMMARY:Dobrovoljno darivanje krvi - 	Prostorije Ivančice d.d. Ivanec
DESCRIPTION: Ivančica\n20.08.2025.\n12:00-14:00\nProstorije Ivančice d.d. Ivanec
URL:https://www.crveni-kriz-ivanec.hr/dogadanja/dobrovoljno-darivanje-krvi-prostorije-ivancice-d-d-ivanec-14/
LOCATION:Prostorije Ivančice d.d. Ivanec\, Petra Preradovića 12\, Ivanec\, 42240
CATEGORIES:Akcija dobrovoljnog darivanja krvi
END:VEVENT
BEGIN:VEVENT
DTSTART;TZID=Europe/Zagreb:20250826T090000
DTEND;TZID=Europe/Zagreb:20250826T120000
DTSTAMP:20260422T231714
CREATED:20250326T135954Z
LAST-MODIFIED:20250326T135954Z
UID:11606-1756198800-1756209600@www.crveni-kriz-ivanec.hr
SUMMARY:Dobrovoljno darivanje krvi - 	Restoran Ivančica Lepoglava
DESCRIPTION:KZ Lepoglava\n26.08.2025.\n9:00-12:00\nRestoran Ivančica Lepoglava\n\n\n\n 
URL:https://www.crveni-kriz-ivanec.hr/dogadanja/dobrovoljno-darivanje-krvi-restoran-ivancica-lepoglava-31/
LOCATION:Restoran “Ivančica” Lepoglava\, Trg 1. Hrvatskog Sveučilišta 9\, Lepoglava\, 42250
CATEGORIES:Akcija dobrovoljnog darivanja krvi
END:VEVENT
END:VCALENDAR