BEGIN:VCALENDAR
VERSION:2.0
PRODID:-//Gradsko društvo Crvenog križa Ivanec - ECPv6.15.18//NONSGML v1.0//EN
CALSCALE:GREGORIAN
METHOD:PUBLISH
X-WR-CALNAME:Gradsko društvo Crvenog križa Ivanec
X-ORIGINAL-URL:https://www.crveni-kriz-ivanec.hr
X-WR-CALDESC:Događaji za Gradsko društvo Crvenog križa Ivanec
REFRESH-INTERVAL;VALUE=DURATION:PT1H
X-Robots-Tag:noindex
X-PUBLISHED-TTL:PT1H
BEGIN:VTIMEZONE
TZID:Europe/Zagreb
BEGIN:DAYLIGHT
TZOFFSETFROM:+0100
TZOFFSETTO:+0200
TZNAME:CEST
DTSTART:20230326T010000
END:DAYLIGHT
BEGIN:STANDARD
TZOFFSETFROM:+0200
TZOFFSETTO:+0100
TZNAME:CET
DTSTART:20231029T010000
END:STANDARD
BEGIN:DAYLIGHT
TZOFFSETFROM:+0100
TZOFFSETTO:+0200
TZNAME:CEST
DTSTART:20240331T010000
END:DAYLIGHT
BEGIN:STANDARD
TZOFFSETFROM:+0200
TZOFFSETTO:+0100
TZNAME:CET
DTSTART:20241027T010000
END:STANDARD
BEGIN:DAYLIGHT
TZOFFSETFROM:+0100
TZOFFSETTO:+0200
TZNAME:CEST
DTSTART:20250330T010000
END:DAYLIGHT
BEGIN:STANDARD
TZOFFSETFROM:+0200
TZOFFSETTO:+0100
TZNAME:CET
DTSTART:20251026T010000
END:STANDARD
END:VTIMEZONE
BEGIN:VEVENT
DTSTART;TZID=Europe/Zagreb:20241203T090000
DTEND;TZID=Europe/Zagreb:20241203T120000
DTSTAMP:20260423T092137
CREATED:20240114T131631Z
LAST-MODIFIED:20240114T131631Z
UID:9740-1733216400-1733227200@www.crveni-kriz-ivanec.hr
SUMMARY:Dobrovoljno darivanje krvi - Općina Maruševec
DESCRIPTION:Maruševec\n03.12.2024.\n9:00-12:00\nOpćina Maruševec\n\n\n\n 
URL:https://www.crveni-kriz-ivanec.hr/dogadanja/dobrovoljno-darivanje-krvi-opcina-marusevec-12/
LOCATION:Općina Maruševec\, Maruševec 6\, Maruševec\, 42243
CATEGORIES:Akcija dobrovoljnog darivanja krvi
END:VEVENT
BEGIN:VEVENT
DTSTART;TZID=Europe/Zagreb:20241210T083000
DTEND;TZID=Europe/Zagreb:20241210T123000
DTSTAMP:20260423T092137
CREATED:20240114T131709Z
LAST-MODIFIED:20240114T131709Z
UID:9742-1733819400-1733833800@www.crveni-kriz-ivanec.hr
SUMMARY:Dobrovoljno darivanje krvi - Zavod za socijalni rad
DESCRIPTION:Ivanec muški\n10.12.2024.\n08:30-12:30\nZavod za socijalni rad
URL:https://www.crveni-kriz-ivanec.hr/dogadanja/dobrovoljno-darivanje-krvi-zavod-za-socijalni-rad-7/
LOCATION:Zavod za socijalni rad\, Ulica Đure Arnolda 11\, Ivanec\, 42240
CATEGORIES:Akcija dobrovoljnog darivanja krvi
END:VEVENT
BEGIN:VEVENT
DTSTART;TZID=Europe/Zagreb:20241217T090000
DTEND;TZID=Europe/Zagreb:20241217T120000
DTSTAMP:20260423T092137
CREATED:20240114T131750Z
LAST-MODIFIED:20240114T131750Z
UID:9744-1734426000-1734436800@www.crveni-kriz-ivanec.hr
SUMMARY:Dobrovoljno darivanje krvi - Prostorije Bolnice Klenovnik
DESCRIPTION:Klenovnik\n17.12.2024.\n9:00-12:00\nProstorije Bolnice Klenovnik;\n\n\n\n 
URL:https://www.crveni-kriz-ivanec.hr/dogadanja/dobrovoljno-darivanje-krvi-prostorije-bolnice-klenovnik-12/
LOCATION:Prostorije Bolnice Klenovnik\, Klenovnik 1\, Klenovnik\, 42244
CATEGORIES:Akcija dobrovoljnog darivanja krvi
END:VEVENT
BEGIN:VEVENT
DTSTART;TZID=Europe/Zagreb:20241218T120000
DTEND;TZID=Europe/Zagreb:20241218T140000
DTSTAMP:20260423T092137
CREATED:20240114T131827Z
LAST-MODIFIED:20240114T131827Z
UID:9746-1734523200-1734530400@www.crveni-kriz-ivanec.hr
SUMMARY:Dobrovoljno darivanje krvi - Prostorije Ivančice d.d. Ivanec
DESCRIPTION: Ivančica\n18.12.2024.\n12:00-14:00\nProstorije Ivančice d.d. Ivanec
URL:https://www.crveni-kriz-ivanec.hr/dogadanja/dobrovoljno-darivanje-krvi-prostorije-ivancice-d-d-ivanec-12/
LOCATION:Prostorije Ivančice d.d. Ivanec\, Petra Preradovića 12\, Ivanec\, 42240
CATEGORIES:Akcija dobrovoljnog darivanja krvi
END:VEVENT
END:VCALENDAR