BEGIN:VCALENDAR
VERSION:2.0
PRODID:-//Gradsko društvo Crvenog križa Ivanec - ECPv6.15.18//NONSGML v1.0//EN
CALSCALE:GREGORIAN
METHOD:PUBLISH
X-WR-CALNAME:Gradsko društvo Crvenog križa Ivanec
X-ORIGINAL-URL:https://www.crveni-kriz-ivanec.hr
X-WR-CALDESC:Događaji za Gradsko društvo Crvenog križa Ivanec
REFRESH-INTERVAL;VALUE=DURATION:PT1H
X-Robots-Tag:noindex
X-PUBLISHED-TTL:PT1H
BEGIN:VTIMEZONE
TZID:Europe/Zagreb
BEGIN:DAYLIGHT
TZOFFSETFROM:+0100
TZOFFSETTO:+0200
TZNAME:CEST
DTSTART:20230326T010000
END:DAYLIGHT
BEGIN:STANDARD
TZOFFSETFROM:+0200
TZOFFSETTO:+0100
TZNAME:CET
DTSTART:20231029T010000
END:STANDARD
BEGIN:DAYLIGHT
TZOFFSETFROM:+0100
TZOFFSETTO:+0200
TZNAME:CEST
DTSTART:20240331T010000
END:DAYLIGHT
BEGIN:STANDARD
TZOFFSETFROM:+0200
TZOFFSETTO:+0100
TZNAME:CET
DTSTART:20241027T010000
END:STANDARD
BEGIN:DAYLIGHT
TZOFFSETFROM:+0100
TZOFFSETTO:+0200
TZNAME:CEST
DTSTART:20250330T010000
END:DAYLIGHT
BEGIN:STANDARD
TZOFFSETFROM:+0200
TZOFFSETTO:+0100
TZNAME:CET
DTSTART:20251026T010000
END:STANDARD
END:VTIMEZONE
BEGIN:VEVENT
DTSTART;TZID=Europe/Zagreb:20241119T090000
DTEND;TZID=Europe/Zagreb:20241119T120000
DTSTAMP:20260423T104046
CREATED:20240114T131457Z
LAST-MODIFIED:20240114T131457Z
UID:9736-1732006800-1732017600@www.crveni-kriz-ivanec.hr
SUMMARY:Dobrovoljno darivanje krvi - Restoran Ivančica Lepoglava
DESCRIPTION:KZ Lepoglava\n19.11.2024.\n9:00-12:00\nRestoran Ivančica Lepoglava\n\n\n\n 
URL:https://www.crveni-kriz-ivanec.hr/dogadanja/dobrovoljno-darivanje-krvi-restoran-ivancica-lepoglava-25/
LOCATION:Restoran “Ivančica” Lepoglava\, Trg 1. Hrvatskog Sveučilišta 9\, Lepoglava\, 42250
CATEGORIES:Akcija dobrovoljnog darivanja krvi
END:VEVENT
BEGIN:VEVENT
DTSTART;TZID=Europe/Zagreb:20241126T090000
DTEND;TZID=Europe/Zagreb:20241126T120000
DTSTAMP:20260423T104046
CREATED:20240114T131541Z
LAST-MODIFIED:20240114T131541Z
UID:9738-1732611600-1732622400@www.crveni-kriz-ivanec.hr
SUMMARY:Dobrovoljno darivanje krvi - Restoran Ivančica Lepoglava
DESCRIPTION:Lepoglava ( građani)\n26.11.2024.\n9:00-12:00\nRestoran Ivančica Lepoglava
URL:https://www.crveni-kriz-ivanec.hr/dogadanja/dobrovoljno-darivanje-krvi-restoran-ivancica-lepoglava-26/
LOCATION:Restoran “Ivančica” Lepoglava\, Trg 1. Hrvatskog Sveučilišta 9\, Lepoglava\, 42250
CATEGORIES:Akcija dobrovoljnog darivanja krvi
END:VEVENT
END:VCALENDAR