BEGIN:VCALENDAR
VERSION:2.0
PRODID:-//Gradsko društvo Crvenog križa Ivanec - ECPv6.15.18//NONSGML v1.0//EN
CALSCALE:GREGORIAN
METHOD:PUBLISH
X-ORIGINAL-URL:https://www.crveni-kriz-ivanec.hr
X-WR-CALDESC:Događaji za Gradsko društvo Crvenog križa Ivanec
REFRESH-INTERVAL;VALUE=DURATION:PT1H
X-Robots-Tag:noindex
X-PUBLISHED-TTL:PT1H
BEGIN:VTIMEZONE
TZID:Europe/Zagreb
BEGIN:DAYLIGHT
TZOFFSETFROM:+0100
TZOFFSETTO:+0200
TZNAME:CEST
DTSTART:20220327T010000
END:DAYLIGHT
BEGIN:STANDARD
TZOFFSETFROM:+0200
TZOFFSETTO:+0100
TZNAME:CET
DTSTART:20221030T010000
END:STANDARD
BEGIN:DAYLIGHT
TZOFFSETFROM:+0100
TZOFFSETTO:+0200
TZNAME:CEST
DTSTART:20230326T010000
END:DAYLIGHT
BEGIN:STANDARD
TZOFFSETFROM:+0200
TZOFFSETTO:+0100
TZNAME:CET
DTSTART:20231029T010000
END:STANDARD
BEGIN:DAYLIGHT
TZOFFSETFROM:+0100
TZOFFSETTO:+0200
TZNAME:CEST
DTSTART:20240331T010000
END:DAYLIGHT
BEGIN:STANDARD
TZOFFSETFROM:+0200
TZOFFSETTO:+0100
TZNAME:CET
DTSTART:20241027T010000
END:STANDARD
END:VTIMEZONE
BEGIN:VEVENT
DTSTART;TZID=Europe/Zagreb:20231205T090000
DTEND;TZID=Europe/Zagreb:20231205T120000
DTSTAMP:20260424T022645
CREATED:20230129T112319Z
LAST-MODIFIED:20230129T112319Z
UID:7912-1701766800-1701777600@www.crveni-kriz-ivanec.hr
SUMMARY:Dobrovoljno darivanje krvi - Općina Maruševec
DESCRIPTION:Maruševec\n05.12.2023.\n9:00-12:00\nOpćina Maruševec
URL:https://www.crveni-kriz-ivanec.hr/dogadanja/dobrovoljno-darivanje-krvi-opcina-marusevec-9/
LOCATION:Općina Maruševec\, Maruševec 6\, Maruševec\, 42243
CATEGORIES:Akcija dobrovoljnog darivanja krvi
END:VEVENT
BEGIN:VEVENT
DTSTART;TZID=Europe/Zagreb:20231212T083000
DTEND;TZID=Europe/Zagreb:20231212T123000
DTSTAMP:20260424T022645
CREATED:20230129T112407Z
LAST-MODIFIED:20230129T112407Z
UID:7914-1702369800-1702384200@www.crveni-kriz-ivanec.hr
SUMMARY:Dobrovoljno darivanje krvi - GDCK Ivanec
DESCRIPTION:Ivanec muški\n12.12.2023.\n08:30-12:30\nGDCK Ivanec\n\n\n\n 
URL:https://www.crveni-kriz-ivanec.hr/dogadanja/dobrovoljno-darivanje-krvi-gdck-ivanec-19/
LOCATION:GDCK Ivanec\, Đure Arnolda 11\, Ivanec\, 42240
CATEGORIES:Akcija dobrovoljnog darivanja krvi
END:VEVENT
BEGIN:VEVENT
DTSTART;TZID=Europe/Zagreb:20231219T083000
DTEND;TZID=Europe/Zagreb:20231219T103000
DTSTAMP:20260424T022645
CREATED:20230129T112528Z
LAST-MODIFIED:20230129T112528Z
UID:7916-1702974600-1702981800@www.crveni-kriz-ivanec.hr
SUMMARY:Dobrovoljno darivanje krvi - Prostorije Bolnice Klenovnik
DESCRIPTION:Klenovnik; Ivančica\n19.12.2023.\n8:30-10:30; \n12:00-14:00\nProstorije Bolnice Klenovnik; \nProstorije Ivančice d.d. Ivanec
URL:https://www.crveni-kriz-ivanec.hr/dogadanja/dobrovoljno-darivanje-krvi-prostorije-bolnice-klenovnik-9/
LOCATION:Prostorije Bolnice Klenovnik\, Klenovnik 1\, Klenovnik\, 42244
CATEGORIES:Akcija dobrovoljnog darivanja krvi
END:VEVENT
BEGIN:VEVENT
DTSTART;TZID=Europe/Zagreb:20231219T120000
DTEND;TZID=Europe/Zagreb:20231219T140000
DTSTAMP:20260424T022645
CREATED:20230129T112556Z
LAST-MODIFIED:20230129T112556Z
UID:7918-1702987200-1702994400@www.crveni-kriz-ivanec.hr
SUMMARY:Dobrovoljno darivanje krvi - Prostorije Ivančice d.d. Ivanec
DESCRIPTION:Klenovnik; Ivančica\n19.12.2023.\n8:30-10:30; \n12:00-14:00\nProstorije Bolnice Klenovnik; \nProstorije Ivančice d.d. Ivanec
URL:https://www.crveni-kriz-ivanec.hr/dogadanja/dobrovoljno-darivanje-krvi-prostorije-ivancice-d-d-ivanec-9/
LOCATION:Prostorije Ivančice d.d. Ivanec\, Petra Preradovića 12\, Ivanec\, 42240
CATEGORIES:Akcija dobrovoljnog darivanja krvi
END:VEVENT
END:VCALENDAR