BEGIN:VCALENDAR
VERSION:2.0
PRODID:-//Gradsko društvo Crvenog križa Ivanec - ECPv6.15.18//NONSGML v1.0//EN
CALSCALE:GREGORIAN
METHOD:PUBLISH
X-ORIGINAL-URL:https://www.crveni-kriz-ivanec.hr
X-WR-CALDESC:Događaji za Gradsko društvo Crvenog križa Ivanec
REFRESH-INTERVAL;VALUE=DURATION:PT1H
X-Robots-Tag:noindex
X-PUBLISHED-TTL:PT1H
BEGIN:VTIMEZONE
TZID:Europe/Zagreb
BEGIN:DAYLIGHT
TZOFFSETFROM:+0100
TZOFFSETTO:+0200
TZNAME:CEST
DTSTART:20220327T010000
END:DAYLIGHT
BEGIN:STANDARD
TZOFFSETFROM:+0200
TZOFFSETTO:+0100
TZNAME:CET
DTSTART:20221030T010000
END:STANDARD
BEGIN:DAYLIGHT
TZOFFSETFROM:+0100
TZOFFSETTO:+0200
TZNAME:CEST
DTSTART:20230326T010000
END:DAYLIGHT
BEGIN:STANDARD
TZOFFSETFROM:+0200
TZOFFSETTO:+0100
TZNAME:CET
DTSTART:20231029T010000
END:STANDARD
BEGIN:DAYLIGHT
TZOFFSETFROM:+0100
TZOFFSETTO:+0200
TZNAME:CEST
DTSTART:20240331T010000
END:DAYLIGHT
BEGIN:STANDARD
TZOFFSETFROM:+0200
TZOFFSETTO:+0100
TZNAME:CET
DTSTART:20241027T010000
END:STANDARD
END:VTIMEZONE
BEGIN:VEVENT
DTSTART;TZID=Europe/Zagreb:20230801T090000
DTEND;TZID=Europe/Zagreb:20230801T120000
DTSTAMP:20260424T111745
CREATED:20230129T105309Z
LAST-MODIFIED:20230129T105309Z
UID:7896-1690880400-1690891200@www.crveni-kriz-ivanec.hr
SUMMARY:Dobrovoljno darivanje krvi - Općina Maruševec
DESCRIPTION:Maruševec\n01.08.2023.\n9:00-12:00\nOpćina Maruševec\n\n\n\n 
URL:https://www.crveni-kriz-ivanec.hr/dogadanja/dobrovoljno-darivanje-krvi-opcina-marusevec-8/
LOCATION:Općina Maruševec\, Maruševec 6\, Maruševec\, 42243
CATEGORIES:Akcija dobrovoljnog darivanja krvi
END:VEVENT
BEGIN:VEVENT
DTSTART;TZID=Europe/Zagreb:20230822T083000
DTEND;TZID=Europe/Zagreb:20230822T103000
DTSTAMP:20260424T111745
CREATED:20230129T105436Z
LAST-MODIFIED:20230129T105436Z
UID:7898-1692693000-1692700200@www.crveni-kriz-ivanec.hr
SUMMARY:Dobrovoljno darivanje krvi - Prostorije Bolnice Klenovnik
DESCRIPTION:Klenovnik; Ivančica\n22.08.2023.\n8:30-10:30; \n12:00-14:00\nProstorije Bolnice Klenovnik; \nProstorije Ivančice d.d. Ivanec
URL:https://www.crveni-kriz-ivanec.hr/dogadanja/dobrovoljno-darivanje-krvi-prostorije-bolnice-klenovnik-8/
LOCATION:Prostorije Bolnice Klenovnik\, Klenovnik 1\, Klenovnik\, 42244
CATEGORIES:Akcija dobrovoljnog darivanja krvi
END:VEVENT
BEGIN:VEVENT
DTSTART;TZID=Europe/Zagreb:20230822T120000
DTEND;TZID=Europe/Zagreb:20230822T140000
DTSTAMP:20260424T111745
CREATED:20230129T105511Z
LAST-MODIFIED:20230129T105511Z
UID:7900-1692705600-1692712800@www.crveni-kriz-ivanec.hr
SUMMARY:Dobrovoljno darivanje krvi - Prostorije Ivančice d.d. Ivanec
DESCRIPTION:Klenovnik; Ivančica\n22.08.2023.\n8:30-10:30; \n12:00-14:00\nProstorije Bolnice Klenovnik; \nProstorije Ivančice d.d. Ivanec
URL:https://www.crveni-kriz-ivanec.hr/dogadanja/dobrovoljno-darivanje-krvi-prostorije-ivancice-d-d-ivanec-8/
LOCATION:Prostorije Ivančice d.d. Ivanec\, Petra Preradovića 12\, Ivanec\, 42240
CATEGORIES:Akcija dobrovoljnog darivanja krvi
END:VEVENT
BEGIN:VEVENT
DTSTART;TZID=Europe/Zagreb:20230829T090000
DTEND;TZID=Europe/Zagreb:20230829T120000
DTSTAMP:20260424T111745
CREATED:20230129T105619Z
LAST-MODIFIED:20230129T105619Z
UID:7902-1693299600-1693310400@www.crveni-kriz-ivanec.hr
SUMMARY:Dobrovoljno darivanje krvi - Restoran Ivančica Lepoglava
DESCRIPTION:KZ Lepoglava\n29.08.2023.\n9:00-12:00\nRestoran Ivančica Lepoglava\n\n\n\n 
URL:https://www.crveni-kriz-ivanec.hr/dogadanja/dobrovoljno-darivanje-krvi-restoran-ivancica-lepoglava-17/
LOCATION:Restoran “Ivančica” Lepoglava\, Trg 1. Hrvatskog Sveučilišta 9\, Lepoglava\, 42250
CATEGORIES:Akcija dobrovoljnog darivanja krvi
END:VEVENT
END:VCALENDAR