BEGIN:VCALENDAR
VERSION:2.0
PRODID:-//Gradsko društvo Crvenog križa Ivanec - ECPv6.15.18//NONSGML v1.0//EN
CALSCALE:GREGORIAN
METHOD:PUBLISH
X-WR-CALNAME:Gradsko društvo Crvenog križa Ivanec
X-ORIGINAL-URL:https://www.crveni-kriz-ivanec.hr
X-WR-CALDESC:Događaji za Gradsko društvo Crvenog križa Ivanec
REFRESH-INTERVAL;VALUE=DURATION:PT1H
X-Robots-Tag:noindex
X-PUBLISHED-TTL:PT1H
BEGIN:VTIMEZONE
TZID:Europe/Zagreb
BEGIN:DAYLIGHT
TZOFFSETFROM:+0100
TZOFFSETTO:+0200
TZNAME:CEST
DTSTART:20210328T010000
END:DAYLIGHT
BEGIN:STANDARD
TZOFFSETFROM:+0200
TZOFFSETTO:+0100
TZNAME:CET
DTSTART:20211031T010000
END:STANDARD
BEGIN:DAYLIGHT
TZOFFSETFROM:+0100
TZOFFSETTO:+0200
TZNAME:CEST
DTSTART:20220327T010000
END:DAYLIGHT
BEGIN:STANDARD
TZOFFSETFROM:+0200
TZOFFSETTO:+0100
TZNAME:CET
DTSTART:20221030T010000
END:STANDARD
BEGIN:DAYLIGHT
TZOFFSETFROM:+0100
TZOFFSETTO:+0200
TZNAME:CEST
DTSTART:20230326T010000
END:DAYLIGHT
BEGIN:STANDARD
TZOFFSETFROM:+0200
TZOFFSETTO:+0100
TZNAME:CET
DTSTART:20231029T010000
END:STANDARD
END:VTIMEZONE
BEGIN:VEVENT
DTSTART;TZID=Europe/Zagreb:20220607T090000
DTEND;TZID=Europe/Zagreb:20220607T120000
DTSTAMP:20260425T061837
CREATED:20211229T103314Z
LAST-MODIFIED:20211229T103750Z
UID:6313-1654592400-1654603200@www.crveni-kriz-ivanec.hr
SUMMARY:Dobrovoljno darivanje krvi - GDCK Ivanec
DESCRIPTION:MJESTO AKCIJE\nDATUM\nVRIJEME\nLOKACIJA AKCIJE\n\n\nTvornički aktiv+Ivanec žene\n07.06.2022.\n9:00-12:00\nGDCK Ivanec\n\n\n\n 
URL:https://www.crveni-kriz-ivanec.hr/dogadanja/dobrovoljno-darivanje-krvi-gdck-ivanec-8/
LOCATION:GDCK Ivanec\, Đure Arnolda 11\, Ivanec\, 42240
CATEGORIES:Akcija dobrovoljnog darivanja krvi
END:VEVENT
BEGIN:VEVENT
DTSTART;TZID=Europe/Zagreb:20220614T083000
DTEND;TZID=Europe/Zagreb:20220614T123000
DTSTAMP:20260425T061837
CREATED:20211229T103418Z
LAST-MODIFIED:20211229T103726Z
UID:6315-1655195400-1655209800@www.crveni-kriz-ivanec.hr
SUMMARY:Dobrovoljno darivanje krvi - GDCK Ivanec
DESCRIPTION:MJESTO AKCIJE\nDATUM\nVRIJEME\nLOKACIJA AKCIJE\n\n\nIvanec muški\n14.06.2020.\n08:30-12:30\nGDCK Ivanec
URL:https://www.crveni-kriz-ivanec.hr/dogadanja/dobrovoljno-darivanje-krvi-gdck-ivanec-9/
LOCATION:GDCK Ivanec\, Đure Arnolda 11\, Ivanec\, 42240
CATEGORIES:Akcija dobrovoljnog darivanja krvi
END:VEVENT
END:VCALENDAR