BEGIN:VCALENDAR
VERSION:2.0
PRODID:-//Gradsko društvo Crvenog križa Ivanec - ECPv6.15.18//NONSGML v1.0//EN
CALSCALE:GREGORIAN
METHOD:PUBLISH
X-WR-CALNAME:Gradsko društvo Crvenog križa Ivanec
X-ORIGINAL-URL:https://www.crveni-kriz-ivanec.hr
X-WR-CALDESC:Događaji za Gradsko društvo Crvenog križa Ivanec
REFRESH-INTERVAL;VALUE=DURATION:PT1H
X-Robots-Tag:noindex
X-PUBLISHED-TTL:PT1H
BEGIN:VTIMEZONE
TZID:Europe/Zagreb
BEGIN:DAYLIGHT
TZOFFSETFROM:+0100
TZOFFSETTO:+0200
TZNAME:CEST
DTSTART:20200329T010000
END:DAYLIGHT
BEGIN:STANDARD
TZOFFSETFROM:+0200
TZOFFSETTO:+0100
TZNAME:CET
DTSTART:20201025T010000
END:STANDARD
BEGIN:DAYLIGHT
TZOFFSETFROM:+0100
TZOFFSETTO:+0200
TZNAME:CEST
DTSTART:20210328T010000
END:DAYLIGHT
BEGIN:STANDARD
TZOFFSETFROM:+0200
TZOFFSETTO:+0100
TZNAME:CET
DTSTART:20211031T010000
END:STANDARD
BEGIN:DAYLIGHT
TZOFFSETFROM:+0100
TZOFFSETTO:+0200
TZNAME:CEST
DTSTART:20220327T010000
END:DAYLIGHT
BEGIN:STANDARD
TZOFFSETFROM:+0200
TZOFFSETTO:+0100
TZNAME:CET
DTSTART:20221030T010000
END:STANDARD
END:VTIMEZONE
BEGIN:VEVENT
DTSTART;TZID=Europe/Zagreb:20210914T083000
DTEND;TZID=Europe/Zagreb:20210914T130000
DTSTAMP:20260425T174115
CREATED:20210330T074732Z
LAST-MODIFIED:20210330T074732Z
UID:4947-1631608200-1631624400@www.crveni-kriz-ivanec.hr
SUMMARY:Dobrovoljno darivanje krvi - GDCK Ivanec
DESCRIPTION:Ivanec muški\n14.09.2021.\n8:30-13:00\nGDCK Ivanec\n\n\n\n 
URL:https://www.crveni-kriz-ivanec.hr/dogadanja/dobrovoljno-darivanje-krvi-gdck-ivanec-3/
LOCATION:GDCK Ivanec\, Đure Arnolda 11\, Ivanec\, 42240
CATEGORIES:Akcija dobrovoljnog darivanja krvi
END:VEVENT
END:VCALENDAR