BEGIN:VCALENDAR
VERSION:2.0
PRODID:-//Gradsko društvo Crvenog križa Ivanec - ECPv6.15.18//NONSGML v1.0//EN
CALSCALE:GREGORIAN
METHOD:PUBLISH
X-WR-CALNAME:Gradsko društvo Crvenog križa Ivanec
X-ORIGINAL-URL:https://www.crveni-kriz-ivanec.hr
X-WR-CALDESC:Događaji za Gradsko društvo Crvenog križa Ivanec
REFRESH-INTERVAL;VALUE=DURATION:PT1H
X-Robots-Tag:noindex
X-PUBLISHED-TTL:PT1H
BEGIN:VTIMEZONE
TZID:Europe/Zagreb
BEGIN:DAYLIGHT
TZOFFSETFROM:+0100
TZOFFSETTO:+0200
TZNAME:CEST
DTSTART:20200329T010000
END:DAYLIGHT
BEGIN:STANDARD
TZOFFSETFROM:+0200
TZOFFSETTO:+0100
TZNAME:CET
DTSTART:20201025T010000
END:STANDARD
BEGIN:DAYLIGHT
TZOFFSETFROM:+0100
TZOFFSETTO:+0200
TZNAME:CEST
DTSTART:20210328T010000
END:DAYLIGHT
BEGIN:STANDARD
TZOFFSETFROM:+0200
TZOFFSETTO:+0100
TZNAME:CET
DTSTART:20211031T010000
END:STANDARD
BEGIN:DAYLIGHT
TZOFFSETFROM:+0100
TZOFFSETTO:+0200
TZNAME:CEST
DTSTART:20220327T010000
END:DAYLIGHT
BEGIN:STANDARD
TZOFFSETFROM:+0200
TZOFFSETTO:+0100
TZNAME:CET
DTSTART:20221030T010000
END:STANDARD
END:VTIMEZONE
BEGIN:VEVENT
DTSTART;TZID=Europe/Zagreb:20210803T090000
DTEND;TZID=Europe/Zagreb:20210803T120000
DTSTAMP:20260425T191330
CREATED:20210330T074328Z
LAST-MODIFIED:20210330T074328Z
UID:4939-1627981200-1627992000@www.crveni-kriz-ivanec.hr
SUMMARY:Dobrovoljno darivanje krvi - Općina Maruševec
DESCRIPTION:Maruševec\n03.08.2021.\n09:00-12:00\nOpćina Maruševec
URL:https://www.crveni-kriz-ivanec.hr/dogadanja/dobrovoljno-darivanje-krvi-opcina-marusevec-2/
LOCATION:Općina Maruševec\, Maruševec 6\, Maruševec\, 42243
CATEGORIES:Akcija dobrovoljnog darivanja krvi
END:VEVENT
BEGIN:VEVENT
DTSTART;TZID=Europe/Zagreb:20210817T090000
DTEND;TZID=Europe/Zagreb:20210817T110000
DTSTAMP:20260425T191330
CREATED:20210330T074432Z
LAST-MODIFIED:20210330T074432Z
UID:4941-1629190800-1629198000@www.crveni-kriz-ivanec.hr
SUMMARY:Dobrovoljno darivanje krvi - Prostorije Bolnice Klenovnik
DESCRIPTION:Klenovnik; Ivančica\n17.08.2021.\n9:00-11:00; 12:00-14:00\nProstorije Bolnice Klenovnik; Prostorije Ivančice d.d. Ivanec\n\n\n\n 
URL:https://www.crveni-kriz-ivanec.hr/dogadanja/dobrovoljno-darivanje-krvi-prostorije-bolnice-klenovnik-2/
LOCATION:Prostorije Bolnice Klenovnik\, Klenovnik 1\, Klenovnik\, 42244
CATEGORIES:Akcija dobrovoljnog darivanja krvi
END:VEVENT
BEGIN:VEVENT
DTSTART;TZID=Europe/Zagreb:20210817T120000
DTEND;TZID=Europe/Zagreb:20210817T140000
DTSTAMP:20260425T191330
CREATED:20210330T074522Z
LAST-MODIFIED:20210330T074522Z
UID:4943-1629201600-1629208800@www.crveni-kriz-ivanec.hr
SUMMARY:Dobrovoljno darivanje krvi - Prostorije Ivančice d.d. Ivanec
DESCRIPTION:Klenovnik; Ivančica\n17.08.2021.\n9:00-11:00; 12:00-14:00\nProstorije Bolnice Klenovnik; Prostorije Ivančice d.d. Ivanec\n\n\n\n 
URL:https://www.crveni-kriz-ivanec.hr/dogadanja/dobrovoljno-darivanje-krvi-prostorije-ivancice-d-d-ivanec-2/
LOCATION:Prostorije Ivančice d.d. Ivanec\, Petra Preradovića 12\, Ivanec\, 42240
CATEGORIES:Akcija dobrovoljnog darivanja krvi
END:VEVENT
BEGIN:VEVENT
DTSTART;TZID=Europe/Zagreb:20210831T090000
DTEND;TZID=Europe/Zagreb:20210831T120000
DTSTAMP:20260425T191330
CREATED:20210330T074637Z
LAST-MODIFIED:20210330T074637Z
UID:4945-1630400400-1630411200@www.crveni-kriz-ivanec.hr
SUMMARY:Dobrovoljno darivanje krvi - Restoran Ivančica Lepoglava
DESCRIPTION:KZ Lepoglava\n31.08.2021.\n09:00-12:00\nRestoran Ivančica Lepoglava
URL:https://www.crveni-kriz-ivanec.hr/dogadanja/dobrovoljno-darivanje-krvi-restoran-ivancica-lepoglava-3/
LOCATION:Restoran “Ivančica” Lepoglava\, Trg 1. Hrvatskog Sveučilišta 9\, Lepoglava\, 42250
CATEGORIES:Akcija dobrovoljnog darivanja krvi
END:VEVENT
END:VCALENDAR